BEGIN:VCALENDAR
VERSION:2.0
PRODID:-//eventon.com NONSGML v1.0//EN
CALSCALE:GREGORIAN
METHOD:PUBLISH
BEGIN:VEVENT
UID:69e78228a222c
DTSTAMP:20260421T145656
DTSTART:20260416T100000Z
DTEND:20260430T163000Z
TZID:UTC
LOCATION:
SUMMARY:Advance Psychosocial Issues in Palliative Care - What's the Story?
DESCRIPTION:This 3 day interactive and experiential program is for interdisciplinary team members who want to increase their knowledge\,  skills and competencies in advanced psychosocial\,  spiritual and therapeutic issues in palliative care. Facilitated by members of the Social work\,  Nursing\,  Administration\,  Chaplaincy and Education teams of St Francis Hospice Dublin\,  this[..]\nhttps://www.sfh.ie/events/advance-psychosocial-issues-in-palliative-care-whats-the-story-4/
URL:https://www.sfh.ie/events/advance-psychosocial-issues-in-palliative-care-whats-the-story-4/
END:VEVENT
END:VCALENDAR